BEGIN:VCALENDAR
VERSION:2.0
PRODID:-//Tıkanıklık Açma, Kameralı Tıkanıklık Açma - ECPv6.9.0//NONSGML v1.0//EN
CALSCALE:GREGORIAN
METHOD:PUBLISH
X-ORIGINAL-URL:https://www.tikaniklikacma.online
X-WR-CALDESC:Tıkanıklık Açma, Kameralı Tıkanıklık Açma için etkinlikler
REFRESH-INTERVAL;VALUE=DURATION:PT1H
X-Robots-Tag:noindex
X-PUBLISHED-TTL:PT1H
BEGIN:VTIMEZONE
TZID:UTC
BEGIN:STANDARD
TZOFFSETFROM:+0000
TZOFFSETTO:+0000
TZNAME:UTC
DTSTART:20180101T000000
END:STANDARD
END:VTIMEZONE
BEGIN:VEVENT
DTSTART;TZID=UTC:20180501T080000
DTEND;TZID=UTC:20180701T170000
DTSTAMP:20260422T120332
CREATED:20171006T101626Z
LAST-MODIFIED:20171006T101626Z
UID:2360-1525161600-1530464400@www.tikaniklikacma.online
SUMMARY:Check your system for $70 per unit
DESCRIPTION:We will check your systems components\, install new filters up to 1″ thick\, vacuum where needed\, and start up your gas furnace and perform an electronic gas test for Carbon Monoxide.
URL:https://www.tikaniklikacma.online/special-offer/check-your-system-for-70-per-unit/
CATEGORIES:Special Offers
END:VEVENT
BEGIN:VEVENT
DTSTART;VALUE=DATE:20180416
DTEND;VALUE=DATE:20180617
DTSTAMP:20260422T120332
CREATED:20171006T101137Z
LAST-MODIFIED:20171006T101137Z
UID:2358-1523836800-1529193599@www.tikaniklikacma.online
SUMMARY:Complete Spring  Check UP!
DESCRIPTION:Spring is just around the corner and the best way to insure your HVAC system keeps you and your family comfortable this season is to make an appointment for our maintenance check.
URL:https://www.tikaniklikacma.online/special-offer/complete-spring-check-up/
CATEGORIES:Special Offers
ATTACH;FMTTYPE=image/jpeg:https://www.tikaniklikacma.online/wp-content/uploads/2018/04/team-3.jpg
END:VEVENT
BEGIN:VEVENT
DTSTART;TZID=UTC:20180415T080000
DTEND;TZID=UTC:20190530T170000
DTSTAMP:20260422T120332
CREATED:20160926T065211Z
LAST-MODIFIED:20180907T110342Z
UID:775-1523779200-1559235600@www.tikaniklikacma.online
SUMMARY:Acele Edin! Tıkanıklık Açma Kampanyası Devam Ediyor !
DESCRIPTION:2000 TL ‘ye varan Tıkanıklık Açma Fiyatlarında Avantaj Sağlayın\nYeni Tıkanıklık Açma hayallerinize ulaşmanın tam zamanı! \nSatın aldığınız 2 yıl  garantili tıkanıklık açma hizmetini üstelik en uygun fiyatara 100 TL – 3500 TL arasında almaya Değer!
URL:https://www.tikaniklikacma.online/special-offer/acele-edin-tikaniklik-acma-kampanyasi-devam-ediyor/
LOCATION:istanbul\, Türkiye
CATEGORIES:Special Offers
ATTACH;FMTTYPE=image/jpeg:https://www.tikaniklikacma.online/wp-content/uploads/2018/04/gallery-8.jpg
END:VEVENT
BEGIN:VEVENT
DTSTART;VALUE=DATE:20180415
DTEND;VALUE=DATE:20181217
DTSTAMP:20260422T120332
CREATED:20171006T100210Z
LAST-MODIFIED:20180907T105706Z
UID:2356-1523750400-1545004799@www.tikaniklikacma.online
SUMMARY:Tıkanıklık Açma
DESCRIPTION:Yeni Tıkanıklık Açma hayallerinize ulaşmanın tam zamanı! \nSatın aldığınız 2 yıl  garantili tıkanıklık açma hizmetini üstelik en uygun fiyatara 100 TL – 3500 TL arasında almaya Değer!
URL:https://www.tikaniklikacma.online/special-offer/tikaniklik-acma/
CATEGORIES:Special Offers
END:VEVENT
END:VCALENDAR